BEGIN:VCALENDAR
VERSION:2.0
PRODID:icalendar-ruby
CALSCALE:GREGORIAN
METHOD:PUBLISH
BEGIN:VEVENT
DTSTAMP:20260423T233844Z
UID:22-692586@livingstonesta.org
DTSTART:20260930T223000Z
DTEND:20260930T233000Z
CLASS:PUBLIC
CREATED:20260423T170851
DESCRIPTION:Led by Elder Kirk Jenne with a time for fellowship and discussi
 on of message material preached the previous Sunday. 
LAST-MODIFIED:20260423T170851
LOCATION:
SUMMARY:Jenne Wednesday Small Group
URL;VALUE=URI:https://www.livingstonesta.org/events/jenne-wednesday-small-g
 roup/2026-09-30
END:VEVENT
END:VCALENDAR
