BEGIN:VCALENDAR
VERSION:2.0
PRODID:icalendar-ruby
CALSCALE:GREGORIAN
METHOD:PUBLISH
BEGIN:VEVENT
DTSTAMP:20260424T010453Z
UID:22-693246@livingstonesta.org
DTSTART:20261007T223000Z
DTEND:20261007T233000Z
CLASS:PUBLIC
CREATED:20260423T200206
DESCRIPTION:Led by Elder Kirk Jenne with a time for fellowship and discussi
 on of message material preached the previous Sunday. 
LAST-MODIFIED:20260423T200206
LOCATION:
SUMMARY:Jenne Wednesday Small Group
URL;VALUE=URI:https://www.livingstonesta.org/events/jenne-wednesday-small-g
 roup/2026-10-07
END:VEVENT
END:VCALENDAR
