BEGIN:VCALENDAR
VERSION:2.0
PRODID:icalendar-ruby
CALSCALE:GREGORIAN
METHOD:PUBLISH
BEGIN:VEVENT
DTSTAMP:20260424T061041Z
UID:22-693909@livingstonesta.org
DTSTART:20261104T233000Z
DTEND:20261105T003000Z
CLASS:PUBLIC
CREATED:20260423T225635
DESCRIPTION:Led by Elder Kirk Jenne with a time for fellowship and discussi
 on of message material preached the previous Sunday. 
LAST-MODIFIED:20260423T225635
LOCATION:
SUMMARY:Jenne Wednesday Small Group
URL;VALUE=URI:https://www.livingstonesta.org/events/jenne-wednesday-small-g
 roup/2026-11-04
END:VEVENT
END:VCALENDAR
