BEGIN:VCALENDAR
VERSION:2.0
PRODID:icalendar-ruby
CALSCALE:GREGORIAN
METHOD:PUBLISH
BEGIN:VEVENT
DTSTAMP:20260419T162431Z
UID:6-674574@livingstonesta.org
DTSTART:20260628T150000Z
DTEND:20260628T160000Z
CLASS:PUBLIC
CREATED:20260419T090347
DESCRIPTION:
LAST-MODIFIED:20260419T090347
LOCATION:R.B. Hunt Elementary School - Across from the Alligator Farm in St
 . Augustine\, FL
SUMMARY:Sunday Worship Service
URL;VALUE=URI:https://www.livingstonesta.org/events/sunday-worship-service/
 2026-06-28
END:VEVENT
END:VCALENDAR
