BEGIN:VCALENDAR
VERSION:2.0
PRODID:icalendar-ruby
CALSCALE:GREGORIAN
METHOD:PUBLISH
BEGIN:VEVENT
DTSTAMP:20260419T175127Z
UID:6-675226@livingstonesta.org
DTSTART:20260705T150000Z
DTEND:20260705T160000Z
CLASS:PUBLIC
CREATED:20260419T124540
DESCRIPTION:
LAST-MODIFIED:20260419T124540
LOCATION:R.B. Hunt Elementary School - Across from the Alligator Farm in St
 . Augustine\, FL
SUMMARY:Sunday Worship Service
URL;VALUE=URI:https://www.livingstonesta.org/events/sunday-worship-service/
 2026-07-05
END:VEVENT
END:VCALENDAR
