BEGIN:VCALENDAR
VERSION:2.0
PRODID:icalendar-ruby
CALSCALE:GREGORIAN
METHOD:PUBLISH
BEGIN:VEVENT
DTSTAMP:20260420T034902Z
UID:6-677188@livingstonesta.org
DTSTART:20260816T150000Z
DTEND:20260816T160000Z
CLASS:PUBLIC
CREATED:20260419T234752
DESCRIPTION:
LAST-MODIFIED:20260419T234752
LOCATION:R.B. Hunt Elementary School - Across from the Alligator Farm in St
 . Augustine\, FL
SUMMARY:Sunday Worship Service
URL;VALUE=URI:https://www.livingstonesta.org/events/sunday-worship-service/
 2026-08-16
END:VEVENT
END:VCALENDAR
