BEGIN:VCALENDAR
VERSION:2.0
PRODID:icalendar-ruby
CALSCALE:GREGORIAN
METHOD:PUBLISH
BEGIN:VEVENT
DTSTAMP:20260422T115437Z
UID:6-685675@livingstonesta.org
DTSTART:20260920T150000Z
DTEND:20260920T160000Z
CLASS:PUBLIC
CREATED:20260421T211702
DESCRIPTION:
LAST-MODIFIED:20260421T211702
LOCATION:R.B. Hunt Elementary School - Across from the Alligator Farm in St
 . Augustine\, FL
SUMMARY:Sunday Worship Service
URL;VALUE=URI:https://www.livingstonesta.org/events/sunday-worship-service/
 2026-09-20
END:VEVENT
END:VCALENDAR
