BEGIN:VCALENDAR
VERSION:2.0
PRODID:icalendar-ruby
CALSCALE:GREGORIAN
METHOD:PUBLISH
BEGIN:VEVENT
DTSTAMP:20260422T132044Z
UID:6-686330@livingstonesta.org
DTSTART:20260927T150000Z
DTEND:20260927T160000Z
CLASS:PUBLIC
CREATED:20260422T082328
DESCRIPTION:
LAST-MODIFIED:20260422T082328
LOCATION:R.B. Hunt Elementary School - Across from the Alligator Farm in St
 . Augustine\, FL
SUMMARY:Sunday Worship Service
URL;VALUE=URI:https://www.livingstonesta.org/events/sunday-worship-service/
 2026-09-27
END:VEVENT
END:VCALENDAR
