BEGIN:VCALENDAR
VERSION:2.0
PRODID:icalendar-ruby
CALSCALE:GREGORIAN
METHOD:PUBLISH
BEGIN:VEVENT
DTSTAMP:20260423T114746Z
UID:20-689765@livingstonesta.org
DTSTART:20260514T170000Z
DTEND:20260514T180000Z
CLASS:PUBLIC
CREATED:20260422T225429
DESCRIPTION:Led by Dee Sutton\, all women are welcome to join a study on th
 e Women of the Bible along with food and fellowship. 
LAST-MODIFIED:20260422T225429
LOCATION:
SUMMARY:Women's Afternoon Bible Study
URL;VALUE=URI:https://www.livingstonesta.org/events/womens-afternoon-bible-
 study/2026-05-14
END:VEVENT
END:VCALENDAR
