BEGIN:VCALENDAR
VERSION:2.0
PRODID:icalendar-ruby
CALSCALE:GREGORIAN
METHOD:PUBLISH
BEGIN:VEVENT
DTSTAMP:20260423T224445Z
UID:20-692405@livingstonesta.org
DTSTART:20260702T170000Z
DTEND:20260702T180000Z
CLASS:PUBLIC
CREATED:20260423T170850
DESCRIPTION:Led by Dee Sutton\, all women are welcome to join a study on th
 e Women of the Bible along with food and fellowship. 
LAST-MODIFIED:20260423T170850
LOCATION:
SUMMARY:Women's Afternoon Bible Study
URL;VALUE=URI:https://www.livingstonesta.org/events/womens-afternoon-bible-
 study/2026-07-02
END:VEVENT
END:VCALENDAR
