BEGIN:VCALENDAR
VERSION:2.0
PRODID:icalendar-ruby
CALSCALE:GREGORIAN
METHOD:PUBLISH
BEGIN:VEVENT
DTSTAMP:20260424T014110Z
UID:20-693066@livingstonesta.org
DTSTART:20260716T170000Z
DTEND:20260716T180000Z
CLASS:PUBLIC
CREATED:20260423T200205
DESCRIPTION:Led by Dee Sutton\, all women are welcome to join a study on th
 e Women of the Bible along with food and fellowship. 
LAST-MODIFIED:20260423T200205
LOCATION:
SUMMARY:Women's Afternoon Bible Study
URL;VALUE=URI:https://www.livingstonesta.org/events/womens-afternoon-bible-
 study/2026-07-16
END:VEVENT
END:VCALENDAR
