BEGIN:VCALENDAR
VERSION:2.0
PRODID:icalendar-ruby
CALSCALE:GREGORIAN
METHOD:PUBLISH
BEGIN:VEVENT
DTSTAMP:20260424T115833Z
UID:20-693733@livingstonesta.org
DTSTART:20260910T170000Z
DTEND:20260910T180000Z
CLASS:PUBLIC
CREATED:20260423T225634
DESCRIPTION:Led by Dee Sutton\, all women are welcome to join a study on th
 e Women of the Bible along with food and fellowship. 
LAST-MODIFIED:20260423T225634
LOCATION:
SUMMARY:Women's Afternoon Bible Study
URL;VALUE=URI:https://www.livingstonesta.org/events/womens-afternoon-bible-
 study/2026-09-10
END:VEVENT
END:VCALENDAR
