BEGIN:VCALENDAR
VERSION:2.0
PRODID:icalendar-ruby
CALSCALE:GREGORIAN
METHOD:PUBLISH
BEGIN:VEVENT
DTSTAMP:20260424T131523Z
UID:20-694393@livingstonesta.org
DTSTART:20260917T170000Z
DTEND:20260917T180000Z
CLASS:PUBLIC
CREATED:20260424T082444
DESCRIPTION:Led by Dee Sutton\, all women are welcome to join a study on th
 e Women of the Bible along with food and fellowship. 
LAST-MODIFIED:20260424T082444
LOCATION:
SUMMARY:Women's Afternoon Bible Study
URL;VALUE=URI:https://www.livingstonesta.org/events/womens-afternoon-bible-
 study/2026-09-17
END:VEVENT
END:VCALENDAR
