BEGIN:VCALENDAR
VERSION:2.0
PRODID:icalendar-ruby
CALSCALE:GREGORIAN
METHOD:PUBLISH
BEGIN:VEVENT
DTSTAMP:20260424T144641Z
UID:20-694394@livingstonesta.org
DTSTART:20260924T170000Z
DTEND:20260924T180000Z
CLASS:PUBLIC
CREATED:20260424T082444
DESCRIPTION:Led by Dee Sutton\, all women are welcome to join a study on th
 e Women of the Bible along with food and fellowship. 
LAST-MODIFIED:20260424T082444
LOCATION:
SUMMARY:Women's Afternoon Bible Study
URL;VALUE=URI:https://www.livingstonesta.org/events/womens-afternoon-bible-
 study/2026-09-24
END:VEVENT
END:VCALENDAR
