BEGIN:VCALENDAR
VERSION:2.0
PRODID:icalendar-ruby
CALSCALE:GREGORIAN
METHOD:PUBLISH
BEGIN:VEVENT
DTSTAMP:20260423T223013Z
UID:21-692504@livingstonesta.org
DTSTART:20260923T223000Z
DTEND:20260923T233000Z
CLASS:PUBLIC
CREATED:20260423T170851
DESCRIPTION:Led by Rick Wynn with a time for fellowship and discussion of m
 essage material preached the previous Sunday. 
LAST-MODIFIED:20260423T170851
LOCATION:
SUMMARY:Wynn Wednesday Small Group
URL;VALUE=URI:https://www.livingstonesta.org/events/wynn-wednesday-small-gr
 oup/2026-09-23
END:VEVENT
END:VCALENDAR
