BEGIN:VCALENDAR
VERSION:2.0
PRODID:icalendar-ruby
CALSCALE:GREGORIAN
METHOD:PUBLISH
BEGIN:VEVENT
DTSTAMP:20260424T000729Z
UID:21-693164@livingstonesta.org
DTSTART:20260930T223000Z
DTEND:20260930T233000Z
CLASS:PUBLIC
CREATED:20260423T200205
DESCRIPTION:Led by Rick Wynn with a time for fellowship and discussion of m
 essage material preached the previous Sunday. 
LAST-MODIFIED:20260423T200205
LOCATION:
SUMMARY:Wynn Wednesday Small Group
URL;VALUE=URI:https://www.livingstonesta.org/events/wynn-wednesday-small-gr
 oup/2026-09-30
END:VEVENT
END:VCALENDAR
