BEGIN:VCALENDAR
VERSION:2.0
PRODID:icalendar-ruby
CALSCALE:GREGORIAN
METHOD:PUBLISH
BEGIN:VEVENT
DTSTAMP:20260424T053004Z
UID:21-693827@livingstonesta.org
DTSTART:20261028T223000Z
DTEND:20261028T233000Z
CLASS:PUBLIC
CREATED:20260423T225634
DESCRIPTION:Led by Rick Wynn with a time for fellowship and discussion of m
 essage material preached the previous Sunday. 
LAST-MODIFIED:20260423T225634
LOCATION:
SUMMARY:Wynn Wednesday Small Group
URL;VALUE=URI:https://www.livingstonesta.org/events/wynn-wednesday-small-gr
 oup/2026-10-28
END:VEVENT
END:VCALENDAR
